############################################################################## ############################################################################## ### ### Running command: ### ### /Library/Frameworks/R.framework/Resources/bin/R CMD build --keep-empty-dirs --no-resave-data amplican ### ############################################################################## ############################################################################## * checking for file ‘amplican/DESCRIPTION’ ... OK * preparing ‘amplican’: * checking DESCRIPTION meta-information ... OK * cleaning src * installing the package to build vignettes ----------------------------------- ERROR: dependency ‘waffle’ is not available for package ‘amplican’ Perhaps try a variation of: install.packages('waffle') * removing ‘/private/tmp/RtmpIJUwF7/Rinst9460621b78b5/amplican’ ----------------------------------- ERROR: package installation failed