Package: amplican Version: 1.31.2 Command: /Library/Frameworks/R.framework/Resources/bin/R CMD INSTALL amplican StartedAt: 2025-10-06 15:35:03 -0400 (Mon, 06 Oct 2025) EndedAt: 2025-10-06 15:35:04 -0400 (Mon, 06 Oct 2025) EllapsedTime: 0.1 seconds RetCode: 1 Status: ERROR