Package: amplican Version: 1.31.2 Command: /Library/Frameworks/R.framework/Resources/bin/R CMD build --keep-empty-dirs --no-resave-data amplican StartedAt: 2025-10-06 15:37:01 -0400 (Mon, 06 Oct 2025) EndedAt: 2025-10-06 15:37:02 -0400 (Mon, 06 Oct 2025) EllapsedTime: 1.0 seconds RetCode: 1 Status: ERROR PackageFile: None PackageFileSize: NA