Package: amplican Version: 1.33.0 Maintainer: Eivind Valen MaintainerEmail: eivind.valen at gmail.com git_url: https://git.bioconductor.org/packages/amplican git_branch: devel git_last_commit: 244fde2 git_last_commit_date: 2025-10-29 10:40:44 -0400 (Wed, 29 Oct 2025)