Package: altcdfenvs Version: 2.73.0 Command: /home/biocbuild/bbs-3.23-bioc/R/bin/R CMD INSTALL altcdfenvs StartedAt: 2025-11-06 15:14:40 -0500 (Thu, 06 Nov 2025) EndedAt: 2025-11-06 15:14:54 -0500 (Thu, 06 Nov 2025) EllapsedTime: 13.9 seconds RetCode: 0 Status: OK