Package: altcdfenvs Version: 2.73.0 Command: /home/biocbuild/bbs-3.23-bioc/R/bin/R CMD build --keep-empty-dirs --no-resave-data altcdfenvs StartedAt: 2025-11-06 16:09:23 -0500 (Thu, 06 Nov 2025) EndedAt: 2025-11-06 16:10:10 -0500 (Thu, 06 Nov 2025) EllapsedTime: 47.1 seconds RetCode: 0 Status: OK PackageFile: altcdfenvs_2.73.0.tar.gz PackageFileSize: 669.2 KiB