Package: altcdfenvs Version: 2.71.0 Command: /Library/Frameworks/R.framework/Resources/bin/R CMD INSTALL altcdfenvs StartedAt: 2025-10-17 15:17:34 -0400 (Fri, 17 Oct 2025) EndedAt: 2025-10-17 15:17:55 -0400 (Fri, 17 Oct 2025) EllapsedTime: 21.7 seconds RetCode: 0 Status: OK