Package: altcdfenvs Version: 2.71.0 Command: /Library/Frameworks/R.framework/Resources/bin/R CMD build --keep-empty-dirs --no-resave-data altcdfenvs StartedAt: 2025-10-17 16:00:12 -0400 (Fri, 17 Oct 2025) EndedAt: 2025-10-17 16:01:16 -0400 (Fri, 17 Oct 2025) EllapsedTime: 64.0 seconds RetCode: 0 Status: OK PackageFile: altcdfenvs_2.71.0.tar.gz PackageFileSize: 668.2 KiB