Package: altcdfenvs Version: 2.71.0 Command: /Library/Frameworks/R.framework/Resources/bin/R CMD INSTALL altcdfenvs StartedAt: 2025-10-10 15:10:14 -0400 (Fri, 10 Oct 2025) EndedAt: 2025-10-10 15:10:19 -0400 (Fri, 10 Oct 2025) EllapsedTime: 5.6 seconds RetCode: 0 Status: OK