Package: altcdfenvs Version: 2.71.0 Command: /Library/Frameworks/R.framework/Resources/bin/R CMD build --keep-empty-dirs --no-resave-data altcdfenvs StartedAt: 2025-10-13 15:37:40 -0400 (Mon, 13 Oct 2025) EndedAt: 2025-10-13 15:38:00 -0400 (Mon, 13 Oct 2025) EllapsedTime: 20.2 seconds RetCode: 0 Status: OK PackageFile: altcdfenvs_2.71.0.tar.gz PackageFileSize: 669.1 KiB