Package: altcdfenvs Version: 2.71.0 Command: rm -rf altcdfenvs.buildbin-libdir && mkdir altcdfenvs.buildbin-libdir && /Users/biocbuild/BBS/utils/build-universal.sh altcdfenvs_2.71.0.tar.gz /Library/Frameworks/R.framework/Resources/bin/R altcdfenvs.buildbin-libdir StartedAt: 2025-10-12 22:28:10 -0400 (Sun, 12 Oct 2025) EndedAt: 2025-10-12 22:28:16 -0400 (Sun, 12 Oct 2025) EllapsedTime: 6.1 seconds RetCode: 0 Status: OK PackageFile: altcdfenvs_2.71.0.tgz PackageFileSize: 1.101 MiB