Package: alevinQC Version: 1.27.0 Command: /home/biocbuild/bbs-3.23-bioc/R/bin/R CMD INSTALL alevinQC StartedAt: 2025-11-07 15:10:20 -0500 (Fri, 07 Nov 2025) EndedAt: 2025-11-07 15:10:38 -0500 (Fri, 07 Nov 2025) EllapsedTime: 18.0 seconds RetCode: 0 Status: OK