Package: alevinQC Version: 1.25.1 Command: /Library/Frameworks/R.framework/Resources/bin/R CMD INSTALL alevinQC StartedAt: 2025-10-12 15:05:32 -0400 (Sun, 12 Oct 2025) EndedAt: 2025-10-12 15:05:39 -0400 (Sun, 12 Oct 2025) EllapsedTime: 7.7 seconds RetCode: 0 Status: OK