Package: alevinQC Version: 1.25.1 Command: /Library/Frameworks/R.framework/Resources/bin/R CMD build --keep-empty-dirs --no-resave-data alevinQC StartedAt: 2025-10-13 15:37:29 -0400 (Mon, 13 Oct 2025) EndedAt: 2025-10-13 15:37:48 -0400 (Mon, 13 Oct 2025) EllapsedTime: 19.2 seconds RetCode: 0 Status: OK PackageFile: alevinQC_1.25.1.tar.gz PackageFileSize: 7.614 MiB