Package: alevinQC Version: 1.25.1 Command: rm -rf alevinQC.buildbin-libdir && mkdir alevinQC.buildbin-libdir && /Users/biocbuild/BBS/utils/build-universal.sh alevinQC_1.25.1.tar.gz /Library/Frameworks/R.framework/Resources/bin/R alevinQC.buildbin-libdir StartedAt: 2025-10-12 22:28:07 -0400 (Sun, 12 Oct 2025) EndedAt: 2025-10-12 22:28:15 -0400 (Sun, 12 Oct 2025) EllapsedTime: 8.2 seconds RetCode: 0 Status: OK PackageFile: alevinQC_1.25.1.tgz PackageFileSize: 8.022 MiB