Package: alabaster Version: 1.11.0 Command: /home/biocbuild/bbs-3.23-bioc/R/bin/R CMD INSTALL alabaster StartedAt: 2025-11-26 15:58:55 -0500 (Wed, 26 Nov 2025) EndedAt: 2025-11-26 15:59:42 -0500 (Wed, 26 Nov 2025) EllapsedTime: 47.3 seconds RetCode: 0 Status: OK