Package: alabaster Version: 1.11.0 Command: /home/biocbuild/bbs-3.23-bioc/R/bin/R CMD build --keep-empty-dirs --no-resave-data alabaster StartedAt: 2025-11-25 16:11:11 -0500 (Tue, 25 Nov 2025) EndedAt: 2025-11-25 16:11:59 -0500 (Tue, 25 Nov 2025) EllapsedTime: 48.0 seconds RetCode: 0 Status: OK PackageFile: alabaster_1.11.0.tar.gz PackageFileSize: 215.7 KiB