Package: alabaster.vcf Version: 1.11.0 Command: /home/biocbuild/bbs-3.23-bioc/R/bin/R CMD INSTALL alabaster.vcf StartedAt: 2025-11-05 16:04:22 -0500 (Wed, 05 Nov 2025) EndedAt: 2025-11-05 16:05:09 -0500 (Wed, 05 Nov 2025) EllapsedTime: 46.2 seconds RetCode: 0 Status: OK