Package: alabaster.vcf Version: 1.11.0 Command: /home/biocbuild/bbs-3.23-bioc/R/bin/R CMD build --keep-empty-dirs --no-resave-data alabaster.vcf StartedAt: 2025-11-06 16:09:06 -0500 (Thu, 06 Nov 2025) EndedAt: 2025-11-06 16:10:09 -0500 (Thu, 06 Nov 2025) EllapsedTime: 63.1 seconds RetCode: 0 Status: OK PackageFile: alabaster.vcf_1.11.0.tar.gz PackageFileSize: 223.1 KiB