Package: alabaster.vcf Version: 1.9.0 Command: /Library/Frameworks/R.framework/Resources/bin/R CMD INSTALL alabaster.vcf StartedAt: 2025-10-16 16:14:47 -0400 (Thu, 16 Oct 2025) EndedAt: 2025-10-16 16:15:48 -0400 (Thu, 16 Oct 2025) EllapsedTime: 61.2 seconds RetCode: 0 Status: OK