Package: alabaster.vcf Version: 1.9.0 Command: /Library/Frameworks/R.framework/Resources/bin/R CMD build --keep-empty-dirs --no-resave-data alabaster.vcf StartedAt: 2025-10-17 15:59:47 -0400 (Fri, 17 Oct 2025) EndedAt: 2025-10-17 16:01:02 -0400 (Fri, 17 Oct 2025) EllapsedTime: 75.5 seconds RetCode: 0 Status: OK PackageFile: alabaster.vcf_1.9.0.tar.gz PackageFileSize: 222.9 KiB