Package: alabaster.vcf Version: 1.9.0 Command: /Library/Frameworks/R.framework/Resources/bin/R CMD build --keep-empty-dirs --no-resave-data alabaster.vcf StartedAt: 2025-10-10 15:38:49 -0400 (Fri, 10 Oct 2025) EndedAt: 2025-10-10 15:39:14 -0400 (Fri, 10 Oct 2025) EllapsedTime: 25.3 seconds RetCode: 0 Status: OK PackageFile: alabaster.vcf_1.9.0.tar.gz PackageFileSize: 222.9 KiB