Package: alabaster.string Version: 1.9.0 Command: chmod a+r alabaster.string -R && F:\biocbuild\bbs-3.22-bioc\R\bin\R.exe CMD build --keep-empty-dirs --no-resave-data alabaster.string StartedAt: 2025-08-14 18:24:11 -0400 (Thu, 14 Aug 2025) EndedAt: 2025-08-14 18:24:37 -0400 (Thu, 14 Aug 2025) EllapsedTime: 26.2 seconds RetCode: 0 Status: OK PackageFile: alabaster.string_1.9.0.tar.gz PackageFileSize: 220.3 KiB