Package: alabaster.string Version: 1.9.0 Command: rm -rf alabaster.string.buildbin-libdir && mkdir alabaster.string.buildbin-libdir && F:\biocbuild\bbs-3.22-bioc\R\bin\R.exe CMD INSTALL --build --library=alabaster.string.buildbin-libdir alabaster.string_1.9.0.tar.gz StartedAt: 2025-08-15 09:42:29 -0400 (Fri, 15 Aug 2025) EndedAt: 2025-08-15 09:42:53 -0400 (Fri, 15 Aug 2025) EllapsedTime: 24.3 seconds RetCode: 0 Status: OK PackageFile: alabaster.string_1.9.0.zip PackageFileSize: 281.3 KiB