Package: alabaster.string Version: 1.11.0 Command: /home/biocbuild/bbs-3.23-bioc/R/bin/R CMD INSTALL alabaster.string StartedAt: 2025-11-04 15:56:39 -0500 (Tue, 04 Nov 2025) EndedAt: 2025-11-04 15:56:51 -0500 (Tue, 04 Nov 2025) EllapsedTime: 12.3 seconds RetCode: 0 Status: OK