Package: alabaster.string Version: 1.11.0 Command: /home/biocbuild/bbs-3.23-bioc/R/bin/R CMD check --install=check:alabaster.string.install-out.txt --library=/home/biocbuild/bbs-3.23-bioc/R/site-library --timings alabaster.string_1.11.0.tar.gz StartedAt: 2025-11-06 20:50:24 -0500 (Thu, 06 Nov 2025) EndedAt: 2025-11-06 20:51:46 -0500 (Thu, 06 Nov 2025) EllapsedTime: 82.2 seconds RetCode: 0 Status: OK CheckDir: alabaster.string.Rcheck Warnings: 0