Package: alabaster.spatial Version: 1.9.0 Command: /home/biocbuild/R/R/bin/R CMD INSTALL alabaster.spatial StartedAt: 2025-10-02 21:04:51 -0000 (Thu, 02 Oct 2025) EndedAt: 2025-10-02 21:05:28 -0000 (Thu, 02 Oct 2025) EllapsedTime: 36.9 seconds RetCode: 0 Status: OK