Package: alabaster.spatial Version: 1.9.0 Command: /home/biocbuild/R/R/bin/R CMD build --keep-empty-dirs --no-resave-data alabaster.spatial StartedAt: 2025-10-02 21:43:26 -0000 (Thu, 02 Oct 2025) EndedAt: 2025-10-02 21:44:22 -0000 (Thu, 02 Oct 2025) EllapsedTime: 56.0 seconds RetCode: 0 Status: OK PackageFile: alabaster.spatial_1.9.0.tar.gz PackageFileSize: 500.1 KiB