Package: alabaster.spatial Version: 1.11.0 Command: /home/biocbuild/bbs-3.23-bioc/R/bin/R CMD check --install=check:alabaster.spatial.install-out.txt --library=/home/biocbuild/bbs-3.23-bioc/R/site-library --timings alabaster.spatial_1.11.0.tar.gz StartedAt: 2025-11-20 20:58:16 -0500 (Thu, 20 Nov 2025) EndedAt: 2025-11-20 21:02:13 -0500 (Thu, 20 Nov 2025) EllapsedTime: 236.4 seconds RetCode: 0 Status: OK CheckDir: alabaster.spatial.Rcheck Warnings: 0