Package: alabaster.sfe Version: 1.3.0 Command: /home/biocbuild/bbs-3.23-bioc/R/bin/R CMD INSTALL alabaster.sfe StartedAt: 2025-11-20 15:38:14 -0500 (Thu, 20 Nov 2025) EndedAt: 2025-11-20 15:39:07 -0500 (Thu, 20 Nov 2025) EllapsedTime: 52.5 seconds RetCode: 0 Status: OK