Package: alabaster.sfe Version: 1.3.0 Command: /home/biocbuild/bbs-3.23-bioc/R/bin/R CMD build --keep-empty-dirs --no-resave-data alabaster.sfe StartedAt: 2025-11-20 16:09:44 -0500 (Thu, 20 Nov 2025) EndedAt: 2025-11-20 16:11:57 -0500 (Thu, 20 Nov 2025) EllapsedTime: 133.2 seconds RetCode: 0 Status: OK PackageFile: alabaster.sfe_1.3.0.tar.gz PackageFileSize: 2.74 MiB