Package: alabaster.sfe Version: 1.1.0 Command: /Library/Frameworks/R.framework/Resources/bin/R CMD INSTALL alabaster.sfe StartedAt: 2025-10-23 15:38:29 -0400 (Thu, 23 Oct 2025) EndedAt: 2025-10-23 15:39:39 -0400 (Thu, 23 Oct 2025) EllapsedTime: 70.2 seconds RetCode: 0 Status: OK