Package: alabaster.sfe Version: 1.1.0 Command: /Library/Frameworks/R.framework/Resources/bin/R CMD INSTALL alabaster.sfe StartedAt: 2025-10-14 15:17:23 -0400 (Tue, 14 Oct 2025) EndedAt: 2025-10-14 15:17:43 -0400 (Tue, 14 Oct 2025) EllapsedTime: 20.0 seconds RetCode: 0 Status: OK