Package: alabaster.sfe Version: 1.1.0 Command: /Library/Frameworks/R.framework/Resources/bin/R CMD build --keep-empty-dirs --no-resave-data alabaster.sfe StartedAt: 2025-10-13 15:37:21 -0400 (Mon, 13 Oct 2025) EndedAt: 2025-10-13 15:39:18 -0400 (Mon, 13 Oct 2025) EllapsedTime: 116.2 seconds RetCode: 0 Status: OK PackageFile: alabaster.sfe_1.1.0.tar.gz PackageFileSize: 3.87 MiB