Package: alabaster.sfe Version: 1.1.0 Command: rm -rf alabaster.sfe.buildbin-libdir && mkdir alabaster.sfe.buildbin-libdir && /Users/biocbuild/BBS/utils/build-universal.sh alabaster.sfe_1.1.0.tar.gz /Library/Frameworks/R.framework/Resources/bin/R alabaster.sfe.buildbin-libdir StartedAt: 2025-10-13 22:33:00 -0400 (Mon, 13 Oct 2025) EndedAt: 2025-10-13 22:33:24 -0400 (Mon, 13 Oct 2025) EllapsedTime: 23.4 seconds RetCode: 0 Status: OK PackageFile: alabaster.sfe_1.1.0.tgz PackageFileSize: 4.007 MiB