Package: alabaster.se Version: 1.9.0 Command: /home/biocbuild/bbs-3.22-bioc/R/bin/R CMD INSTALL alabaster.se StartedAt: 2025-10-05 15:35:34 -0400 (Sun, 05 Oct 2025) EndedAt: 2025-10-05 15:36:01 -0400 (Sun, 05 Oct 2025) EllapsedTime: 27.0 seconds RetCode: 0 Status: OK