Package: alabaster.se Version: 1.9.0 Command: /home/biocbuild/bbs-3.22-bioc/R/bin/R CMD build --keep-empty-dirs --no-resave-data --md5 alabaster.se StartedAt: 2025-10-05 16:08:51 -0400 (Sun, 05 Oct 2025) EndedAt: 2025-10-05 16:09:26 -0400 (Sun, 05 Oct 2025) EllapsedTime: 35.1 seconds RetCode: 0 Status: OK PackageFile: alabaster.se_1.9.0.tar.gz PackageFileSize: 225.7 KiB