Package: alabaster.se Version: 1.11.0 Command: /home/biocbuild/bbs-3.23-bioc/R/bin/R CMD build --keep-empty-dirs --no-resave-data alabaster.se StartedAt: 2025-11-19 16:12:59 -0500 (Wed, 19 Nov 2025) EndedAt: 2025-11-19 16:13:34 -0500 (Wed, 19 Nov 2025) EllapsedTime: 35.1 seconds RetCode: 0 Status: OK PackageFile: alabaster.se_1.11.0.tar.gz PackageFileSize: 225.1 KiB