Package: alabaster.se Version: 1.11.0 Command: /Library/Frameworks/R.framework/Resources/bin/R CMD INSTALL alabaster.se StartedAt: 2025-11-17 15:29:28 -0500 (Mon, 17 Nov 2025) EndedAt: 2025-11-17 15:30:03 -0500 (Mon, 17 Nov 2025) EllapsedTime: 35.3 seconds RetCode: 0 Status: OK