Package: alabaster.se Version: 1.11.0 Command: /Library/Frameworks/R.framework/Resources/bin/R CMD build --keep-empty-dirs --no-resave-data alabaster.se StartedAt: 2025-11-18 16:01:55 -0500 (Tue, 18 Nov 2025) EndedAt: 2025-11-18 16:02:36 -0500 (Tue, 18 Nov 2025) EllapsedTime: 41.2 seconds RetCode: 0 Status: OK PackageFile: alabaster.se_1.11.0.tar.gz PackageFileSize: 225 KiB