Package: alabaster.se Version: 1.11.0 Command: rm -rf alabaster.se.buildbin-libdir && mkdir alabaster.se.buildbin-libdir && /Users/biocbuild/BBS/utils/build-universal.sh alabaster.se_1.11.0.tar.gz /Library/Frameworks/R.framework/Resources/bin/R alabaster.se.buildbin-libdir StartedAt: 2025-11-17 06:43:31 -0500 (Mon, 17 Nov 2025) EndedAt: 2025-11-17 06:44:12 -0500 (Mon, 17 Nov 2025) EllapsedTime: 40.7 seconds RetCode: 0 Status: OK PackageFile: alabaster.se_1.11.0.tgz PackageFileSize: 305.3 KiB