Package: alabaster.se Version: 1.9.0 Command: /Library/Frameworks/R.framework/Resources/bin/R CMD INSTALL alabaster.se StartedAt: 2025-10-20 15:12:31 -0400 (Mon, 20 Oct 2025) EndedAt: 2025-10-20 15:12:42 -0400 (Mon, 20 Oct 2025) EllapsedTime: 10.6 seconds RetCode: 0 Status: OK