Package: alabaster.se Version: 1.9.0 Command: /Library/Frameworks/R.framework/Resources/bin/R CMD build --keep-empty-dirs --no-resave-data alabaster.se StartedAt: 2025-10-20 15:36:39 -0400 (Mon, 20 Oct 2025) EndedAt: 2025-10-20 15:36:53 -0400 (Mon, 20 Oct 2025) EllapsedTime: 14.2 seconds RetCode: 0 Status: OK PackageFile: alabaster.se_1.9.0.tar.gz PackageFileSize: 225 KiB