Package: alabaster.se Version: 1.9.0 Command: rm -rf alabaster.se.buildbin-libdir && mkdir alabaster.se.buildbin-libdir && /Users/biocbuild/BBS/utils/build-universal.sh alabaster.se_1.9.0.tar.gz /Library/Frameworks/R.framework/Resources/bin/R alabaster.se.buildbin-libdir StartedAt: 2025-10-20 22:51:10 -0400 (Mon, 20 Oct 2025) EndedAt: 2025-10-20 22:51:23 -0400 (Mon, 20 Oct 2025) EllapsedTime: 12.2 seconds RetCode: 0 Status: OK PackageFile: alabaster.se_1.9.0.tgz PackageFileSize: 304.8 KiB