Package: alabaster.schemas Version: 1.11.0 Command: /home/biocbuild/bbs-3.23-bioc/R/bin/R CMD build --keep-empty-dirs --no-resave-data alabaster.schemas StartedAt: 2025-11-07 16:09:25 -0500 (Fri, 07 Nov 2025) EndedAt: 2025-11-07 16:09:28 -0500 (Fri, 07 Nov 2025) EllapsedTime: 3.0 seconds RetCode: 0 Status: OK PackageFile: alabaster.schemas_1.11.0.tar.gz PackageFileSize: 239.9 KiB