Package: alabaster.schemas Version: 1.9.0 Command: /Library/Frameworks/R.framework/Resources/bin/R CMD INSTALL alabaster.schemas StartedAt: 2025-10-03 15:04:51 -0400 (Fri, 03 Oct 2025) EndedAt: 2025-10-03 15:05:34 -0400 (Fri, 03 Oct 2025) EllapsedTime: 42.6 seconds RetCode: 0 Status: OK