Package: alabaster.sce Version: 1.11.0 Command: /home/biocbuild/bbs-3.23-bioc/R/bin/R CMD INSTALL alabaster.sce StartedAt: 2025-11-05 15:43:45 -0500 (Wed, 05 Nov 2025) EndedAt: 2025-11-05 15:44:13 -0500 (Wed, 05 Nov 2025) EllapsedTime: 27.7 seconds RetCode: 0 Status: OK