Package: alabaster.sce Version: 1.11.0 Command: /home/biocbuild/bbs-3.23-bioc/R/bin/R CMD build --keep-empty-dirs --no-resave-data alabaster.sce StartedAt: 2025-11-05 16:16:04 -0500 (Wed, 05 Nov 2025) EndedAt: 2025-11-05 16:16:43 -0500 (Wed, 05 Nov 2025) EllapsedTime: 39.1 seconds RetCode: 0 Status: OK PackageFile: alabaster.sce_1.11.0.tar.gz PackageFileSize: 220.4 KiB