Package: alabaster.sce Version: 1.9.0 Command: /Library/Frameworks/R.framework/Resources/bin/R CMD build --keep-empty-dirs --no-resave-data alabaster.sce StartedAt: 2025-10-05 15:36:30 -0400 (Sun, 05 Oct 2025) EndedAt: 2025-10-05 15:36:47 -0400 (Sun, 05 Oct 2025) EllapsedTime: 16.1 seconds RetCode: 0 Status: OK PackageFile: alabaster.sce_1.9.0.tar.gz PackageFileSize: 220.3 KiB