Package: alabaster.ranges Version: 1.9.1 Command: /home/biocbuild/R/R/bin/R CMD INSTALL alabaster.ranges StartedAt: 2025-10-23 20:34:29 -0000 (Thu, 23 Oct 2025) EndedAt: 2025-10-23 20:34:45 -0000 (Thu, 23 Oct 2025) EllapsedTime: 15.5 seconds RetCode: 0 Status: OK